Index of /checkResults/3.16/bioc-longtests-LATEST/biodbMirbase/raw-results
Name
Last modified
Size
Description
Parent Directory
-
lconway/
16-Apr-2023 10:30
-
palomino4/
16-Apr-2023 10:30
-
nebbiolo2/
16-Apr-2023 10:30
-