Index of /checkResults/3.16/bioc-longtests-LATEST/biodbKegg/raw-results/palomino4
Name
Last modified
Size
Description
Parent Directory
-
checksrc-summary.dcf
16-Apr-2023 10:30
459
buildsrc-summary.dcf
16-Apr-2023 10:30
489
buildsrc-out.txt
16-Apr-2023 10:30
807
checksrc-out.txt
16-Apr-2023 10:30
2.8K