Index of /checkResults/3.16/bioc-longtests-LATEST/biodbKegg/raw-results/nebbiolo2
Name
Last modified
Size
Description
Parent Directory
-
buildsrc-out.txt
16-Apr-2023 10:30
774
buildsrc-summary.dcf
16-Apr-2023 10:30
453
checksrc-out.txt
16-Apr-2023 10:30
2.9K
checksrc-summary.dcf
16-Apr-2023 10:30
433