Index of /checkResults/3.16/bioc-longtests-LATEST/biodbChebi/raw-results/palomino4
Name
Last modified
Size
Description
Parent Directory
-
buildsrc-out.txt
16-Apr-2023 10:30
812
buildsrc-summary.dcf
16-Apr-2023 10:30
494
checksrc-out.txt
16-Apr-2023 10:30
2.8K
checksrc-summary.dcf
16-Apr-2023 10:30
462