Index of /checkResults/3.16/bioc-longtests-LATEST/SimBu/raw-results/nebbiolo2
Name
Last modified
Size
Description
Parent Directory
-
buildsrc-out.txt
16-Apr-2023 10:30
758
buildsrc-summary.dcf
16-Apr-2023 10:30
441
checksrc-out.txt
16-Apr-2023 10:30
4.3K
checksrc-summary.dcf
16-Apr-2023 10:30
424