Index of /checkResults/3.16/bioc-longtests-LATEST/SimBu/raw-results/lconway
Name
Last modified
Size
Description
Parent Directory
-
buildsrc-out.txt
16-Apr-2023 10:30
768
buildsrc-summary.dcf
16-Apr-2023 10:30
452
checksrc-out.txt
16-Apr-2023 10:30
4.5K
checksrc-summary.dcf
16-Apr-2023 10:30
434