Index of /checkResults/3.16/bioc-longtests-LATEST/DropletUtils/raw-results/nebbiolo2
Name
Last modified
Size
Description
Parent Directory
-
checksrc-summary.dcf
16-Apr-2023 10:30
444
checksrc-out.txt
16-Apr-2023 10:30
3.6K
buildsrc-summary.dcf
16-Apr-2023 10:30
464
buildsrc-out.txt
16-Apr-2023 10:30
802