Index of /checkResults/3.16/bioc-longtests-LATEST/ChromSCape/raw-results/palomino4
Name
Last modified
Size
Description
Parent Directory
-
checksrc-summary.dcf
16-Apr-2023 10:30
466
checksrc-out.txt
16-Apr-2023 10:30
6.9K
buildsrc-summary.dcf
16-Apr-2023 10:30
495
buildsrc-out.txt
16-Apr-2023 10:30
888