Index of /checkResults/3.16/bioc-longtests-LATEST/ChromSCape/raw-results/nebbiolo2
Name
Last modified
Size
Description
Parent Directory
-
buildsrc-out.txt
16-Apr-2023 10:30
856
buildsrc-summary.dcf
16-Apr-2023 10:30
456
checksrc-out.txt
16-Apr-2023 10:30
7.1K
checksrc-summary.dcf
16-Apr-2023 10:30
440