Index of /checkResults/3.16/bioc-longtests-LATEST/ChromSCape/raw-results/lconway
Name
Last modified
Size
Description
Parent Directory
-
checksrc-summary.dcf
16-Apr-2023 10:30
450
checksrc-out.txt
16-Apr-2023 10:30
6.9K
buildsrc-summary.dcf
16-Apr-2023 10:30
467
buildsrc-out.txt
16-Apr-2023 10:30
866