Index of /checkResults/3.16/bioc-longtests-LATEST/APAlyzer/raw-results/lconway
Name
Last modified
Size
Description
Parent Directory
-
buildsrc-out.txt
16-Apr-2023 10:30
781
buildsrc-summary.dcf
16-Apr-2023 10:30
462
checksrc-out.txt
16-Apr-2023 10:30
4.9K
checksrc-summary.dcf
16-Apr-2023 10:30
446