Name | Last modified | Size | Description | |
---|---|---|---|---|
Parent Directory | - | |||
install-summary.dcf | 13-Apr-2023 00:06 | 271 | ||
install-out.txt | 13-Apr-2023 00:06 | 959 | ||
checksrc-summary.dcf | 13-Apr-2023 00:06 | 447 | ||
checksrc-out.txt | 13-Apr-2023 00:06 | 3.3K | ||
buildsrc-summary.dcf | 13-Apr-2023 00:06 | 429 | ||
buildsrc-out.txt | 13-Apr-2023 00:06 | 748 | ||
buildbin-summary.dcf | 13-Apr-2023 00:06 | 535 | ||
buildbin-out.txt | 13-Apr-2023 00:06 | 1.1K | ||