Name | Last modified | Size | Description | |
---|---|---|---|---|
Parent Directory | - | |||
install-summary.dcf | 13-Apr-2023 00:06 | 277 | ||
buildsrc-summary.dcf | 13-Apr-2023 00:06 | 439 | ||
checksrc-summary.dcf | 13-Apr-2023 00:06 | 460 | ||
buildbin-summary.dcf | 13-Apr-2023 00:06 | 553 | ||
buildsrc-out.txt | 13-Apr-2023 00:06 | 862 | ||
install-out.txt | 13-Apr-2023 00:06 | 1.6K | ||
buildbin-out.txt | 13-Apr-2023 00:06 | 2.5K | ||
checksrc-out.txt | 13-Apr-2023 00:06 | 3.4K | ||