Name | Last modified | Size | Description | |
---|---|---|---|---|
Parent Directory | - | |||
install-summary.dcf | 13-Apr-2023 00:06 | 277 | ||
buildsrc-summary.dcf | 13-Apr-2023 00:06 | 439 | ||
checksrc-summary.dcf | 13-Apr-2023 00:06 | 459 | ||
buildbin-summary.dcf | 13-Apr-2023 00:06 | 554 | ||
buildsrc-out.txt | 13-Apr-2023 00:06 | 925 | ||
checksrc-out.txt | 13-Apr-2023 00:06 | 4.2K | ||
install-out.txt | 13-Apr-2023 00:06 | 7.7K | ||
buildbin-out.txt | 13-Apr-2023 00:06 | 8.6K | ||