Name | Last modified | Size | Description | |
---|---|---|---|---|
Parent Directory | - | |||
buildbin-out.txt | 13-Apr-2023 00:05 | 2.5K | ||
buildbin-summary.dcf | 13-Apr-2023 00:05 | 533 | ||
buildsrc-out.txt | 13-Apr-2023 00:05 | 946 | ||
buildsrc-summary.dcf | 13-Apr-2023 00:05 | 464 | ||
checksrc-out.txt | 13-Apr-2023 00:05 | 7.4K | ||
checksrc-summary.dcf | 13-Apr-2023 00:05 | 459 | ||
install-out.txt | 13-Apr-2023 00:05 | 2.3K | ||
install-summary.dcf | 13-Apr-2023 00:05 | 274 | ||