Index of /checkResults/3.16/bioc-LATEST/iteremoval/raw-results/lconway
Name
Last modified
Size
Description
Parent Directory
-
buildsrc-out.txt
13-Apr-2023 00:06
1.0K
buildsrc-summary.dcf
13-Apr-2023 00:06
349
install-out.txt
13-Apr-2023 00:06
1.6K
install-summary.dcf
13-Apr-2023 00:06
275