Index of /checkResults/3.16/bioc-LATEST/flowUtils/raw-results/palomino4
Name
Last modified
Size
Description
Parent Directory
-
install-summary.dcf
13-Apr-2023 00:05
272
buildsrc-summary.dcf
13-Apr-2023 00:05
374
buildsrc-out.txt
13-Apr-2023 00:05
1.3K
install-out.txt
13-Apr-2023 00:05
1.5K