Index of /checkResults/3.16/bioc-LATEST/flowUtils/raw-results/nebbiolo2
Name
Last modified
Size
Description
Parent Directory
-
buildsrc-out.txt
13-Apr-2023 00:05
1.3K
buildsrc-summary.dcf
13-Apr-2023 00:05
337
install-out.txt
13-Apr-2023 00:05
1.6K
install-summary.dcf
13-Apr-2023 00:05
263