Name | Last modified | Size | Description | |
---|---|---|---|---|
Parent Directory | - | |||
buildbin-out.txt | 04-Jun-2022 00:06 | 1.1K | ||
buildbin-summary.dcf | 04-Jun-2022 00:06 | 527 | ||
buildsrc-out.txt | 13-Apr-2023 00:05 | 919 | ||
buildsrc-summary.dcf | 13-Apr-2023 00:05 | 364 | ||
checksrc-out.txt | 04-Jun-2022 00:06 | 3.2K | ||
checksrc-summary.dcf | 04-Jun-2022 00:06 | 445 | ||
install-out.txt | 13-Apr-2023 00:05 | 614 | ||
install-summary.dcf | 13-Apr-2023 00:05 | 268 | ||