Name | Last modified | Size | Description | |
---|---|---|---|---|
Parent Directory | - | |||
install-summary.dcf | 12-Jul-2022 00:06 | 275 | ||
install-out.txt | 12-Jul-2022 00:06 | 2.9K | ||
buildsrc-summary.dcf | 08-Jul-2022 00:11 | 436 | ||
buildsrc-out.txt | 08-Jul-2022 00:11 | 858 | ||
buildbin-summary.dcf | 08-Jul-2022 00:11 | 464 | ||
buildbin-out.txt | 08-Jul-2022 00:11 | 3.3K | ||