Name | Last modified | Size | Description | |
---|---|---|---|---|
Parent Directory | - | |||
buildbin-out.txt | 13-Apr-2023 00:05 | 1.1K | ||
buildbin-summary.dcf | 13-Apr-2023 00:05 | 551 | ||
buildsrc-out.txt | 13-Apr-2023 00:05 | 906 | ||
buildsrc-summary.dcf | 13-Apr-2023 00:05 | 477 | ||
checksrc-out.txt | 13-Apr-2023 00:05 | 3.2K | ||
checksrc-summary.dcf | 13-Apr-2023 00:05 | 471 | ||
install-out.txt | 13-Apr-2023 00:05 | 1.0K | ||
install-summary.dcf | 13-Apr-2023 00:05 | 280 | ||