Index of /checkResults/3.16/bioc-LATEST/bridge/raw-results/lconway
Name
Last modified
Size
Description
Parent Directory
-
install-out.txt
13-Apr-2023 00:06
1.6K
install-summary.dcf
13-Apr-2023 00:06
269
buildsrc-out.txt
13-Apr-2023 00:06
1.8K
buildsrc-summary.dcf
13-Apr-2023 00:06
340