Index of /checkResults/3.16/bioc-LATEST/bnem/raw-results/kjohnson
Name
Last modified
Size
Description
Parent Directory
-
buildsrc-out.txt
12-Jul-2022 00:06
620
buildsrc-summary.dcf
12-Jul-2022 00:06
343
install-out.txt
12-Jul-2022 00:06
1.0K
install-summary.dcf
12-Jul-2022 00:06
263