Name | Last modified | Size | Description | |
---|---|---|---|---|
Parent Directory | - | |||
buildbin-out.txt | 08-Jul-2022 00:10 | 2.9K | ||
buildbin-summary.dcf | 08-Jul-2022 00:10 | 459 | ||
install-out.txt | 12-Jul-2022 00:06 | 2.5K | ||
install-summary.dcf | 12-Jul-2022 00:06 | 273 | ||
buildsrc-out.txt | 12-Jul-2022 00:06 | 854 | ||
buildsrc-summary.dcf | 12-Jul-2022 00:06 | 434 | ||