Index of /checkResults/3.16/bioc-LATEST/bambu/raw-results/kjohnson
Name
Last modified
Size
Description
Parent Directory
-
buildsrc-out.txt
12-Jul-2022 00:06
922
buildsrc-summary.dcf
12-Jul-2022 00:06
337
install-out.txt
12-Jul-2022 00:06
714
install-summary.dcf
12-Jul-2022 00:06
266