Index of /checkResults/3.16/bioc-LATEST/ballgown/raw-results/kjohnson
Name
Last modified
Size
Description
Parent Directory
-
buildsrc-out.txt
12-Jul-2022 00:06
899
buildsrc-summary.dcf
12-Jul-2022 00:06
344
install-out.txt
12-Jul-2022 00:06
700
install-summary.dcf
12-Jul-2022 00:06
273