Index of /checkResults/3.16/bioc-LATEST/animalcules/raw-results/kjohnson
Name
Last modified
Size
Description
Parent Directory
-
install-summary.dcf
12-Jul-2022 00:06
278
buildsrc-summary.dcf
12-Jul-2022 00:06
439
buildsrc-out.txt
12-Jul-2022 00:06
872
install-out.txt
12-Jul-2022 00:06
1.8K