Name | Last modified | Size | Description | |
---|---|---|---|---|
Parent Directory | - | |||
checksrc-out.txt | 04-Jun-2022 00:08 | 5.5K | ||
buildbin-out.txt | 04-Jun-2022 00:08 | 1.2K | ||
buildsrc-out.txt | 13-Apr-2023 00:06 | 895 | ||
install-out.txt | 13-Apr-2023 00:06 | 684 | ||
buildbin-summary.dcf | 04-Jun-2022 00:08 | 535 | ||
checksrc-summary.dcf | 04-Jun-2022 00:08 | 447 | ||
buildsrc-summary.dcf | 13-Apr-2023 00:06 | 344 | ||
install-summary.dcf | 13-Apr-2023 00:06 | 273 | ||