Name | Last modified | Size | Description | |
---|---|---|---|---|
Parent Directory | - | |||
buildbin-out.txt | 13-Apr-2023 00:06 | 25K | ||
buildbin-summary.dcf | 13-Apr-2023 00:06 | 537 | ||
buildsrc-out.txt | 13-Apr-2023 00:06 | 850 | ||
buildsrc-summary.dcf | 13-Apr-2023 00:06 | 431 | ||
checksrc-out.txt | 13-Apr-2023 00:06 | 4.3K | ||
checksrc-summary.dcf | 13-Apr-2023 00:06 | 447 | ||
install-out.txt | 13-Apr-2023 00:06 | 19K | ||
install-summary.dcf | 13-Apr-2023 00:06 | 272 | ||