Name | Last modified | Size | Description | |
---|---|---|---|---|
Parent Directory | - | |||
install-out.txt | 13-Apr-2023 00:06 | 2.6K | ||
install-summary.dcf | 13-Apr-2023 00:06 | 272 | ||
buildsrc-out.txt | 13-Apr-2023 00:06 | 893 | ||
buildsrc-summary.dcf | 13-Apr-2023 00:06 | 432 | ||
checksrc-summary.dcf | 13-Apr-2023 00:06 | 450 | ||
checksrc-out.txt | 13-Apr-2023 00:06 | 3.3K | ||
buildbin-summary.dcf | 13-Apr-2023 00:06 | 538 | ||
buildbin-out.txt | 13-Apr-2023 00:06 | 3.5K | ||