Name | Last modified | Size | Description | |
---|---|---|---|---|
Parent Directory | - | |||
buildbin-summary.dcf | 13-Apr-2023 00:05 | 536 | ||
buildbin-out.txt | 13-Apr-2023 00:05 | 2.5K | ||
checksrc-summary.dcf | 13-Apr-2023 00:05 | 461 | ||
checksrc-out.txt | 13-Apr-2023 00:05 | 4.2K | ||
buildsrc-summary.dcf | 13-Apr-2023 00:05 | 466 | ||
buildsrc-out.txt | 13-Apr-2023 00:05 | 890 | ||
install-summary.dcf | 13-Apr-2023 00:05 | 275 | ||
install-out.txt | 13-Apr-2023 00:05 | 2.3K | ||