Name | Last modified | Size | Description | |
---|---|---|---|---|
Parent Directory | - | |||
install-summary.dcf | 13-Apr-2023 00:05 | 266 | ||
buildsrc-out.txt | 13-Apr-2023 00:05 | 851 | ||
buildsrc-summary.dcf | 13-Apr-2023 00:05 | 427 | ||
install-out.txt | 13-Apr-2023 00:05 | 1.9K | ||
checksrc-out.txt | 13-Apr-2023 00:05 | 3.8K | ||
checksrc-summary.dcf | 13-Apr-2023 00:05 | 428 | ||