Index of /checkResults/3.16/bioc-LATEST/MethylSeekR/raw-results/kjohnson
Name
Last modified
Size
Description
Parent Directory
-
install-summary.dcf
12-Jul-2022 00:06
279
install-out.txt
12-Jul-2022 00:06
728
buildsrc-summary.dcf
08-Jul-2022 00:11
350
buildsrc-out.txt
08-Jul-2022 00:11
933