Name | Last modified | Size | Description | |
---|---|---|---|---|
Parent Directory | - | |||
install-out.txt | 13-Apr-2023 00:06 | 1.6K | ||
install-summary.dcf | 13-Apr-2023 00:06 | 268 | ||
buildsrc-out.txt | 13-Apr-2023 00:06 | 885 | ||
buildsrc-summary.dcf | 13-Apr-2023 00:06 | 426 | ||
checksrc-out.txt | 13-Apr-2023 00:06 | 5.1K | ||
checksrc-summary.dcf | 13-Apr-2023 00:06 | 442 | ||
buildbin-out.txt | 13-Apr-2023 00:06 | 2.4K | ||
buildbin-summary.dcf | 13-Apr-2023 00:06 | 527 | ||