Name | Last modified | Size | Description | |
---|---|---|---|---|
Parent Directory | - | |||
install-summary.dcf | 13-Apr-2023 00:04 | 255 | ||
install-out.txt | 13-Apr-2023 00:04 | 68K | ||
checksrc-summary.dcf | 13-Apr-2023 00:04 | 411 | ||
checksrc-out.txt | 13-Apr-2023 00:04 | 8.6K | ||
buildsrc-summary.dcf | 13-Apr-2023 00:04 | 411 | ||
buildsrc-out.txt | 13-Apr-2023 00:04 | 891 | ||