Name | Last modified | Size | Description | |
---|---|---|---|---|
Parent Directory | - | |||
install-summary.dcf | 13-Apr-2023 00:05 | 262 | ||
install-out.txt | 13-Apr-2023 00:05 | 9.4K | ||
checksrc-summary.dcf | 13-Apr-2023 00:05 | 435 | ||
checksrc-out.txt | 13-Apr-2023 00:05 | 4.1K | ||
buildsrc-summary.dcf | 13-Apr-2023 00:05 | 440 | ||
buildsrc-out.txt | 13-Apr-2023 00:05 | 916 | ||
buildbin-summary.dcf | 13-Apr-2023 00:05 | 496 | ||
buildbin-out.txt | 13-Apr-2023 00:05 | 9.6K | ||