Name | Last modified | Size | Description | |
---|---|---|---|---|
Parent Directory | - | |||
install-summary.dcf | 13-Apr-2023 00:04 | 277 | ||
install-out.txt | 13-Apr-2023 00:04 | 3.1K | ||
checksrc-summary.dcf | 04-May-2022 00:02 | 462 | ||
checksrc-out.txt | 04-May-2022 00:02 | 12K | ||
buildsrc-summary.dcf | 13-Apr-2023 00:04 | 348 | ||
buildsrc-out.txt | 13-Apr-2023 00:04 | 3.4K | ||