Index of /checkResults/3.16/bioc-LATEST/ArrayExpressHTS/raw-results/kjohnson
Name
Last modified
Size
Description
Parent Directory
-
buildsrc-out.txt
12-Jul-2022 00:06
1.5K
buildsrc-summary.dcf
12-Jul-2022 00:06
358
install-out.txt
12-Jul-2022 00:06
1.2K
install-summary.dcf
12-Jul-2022 00:06
287