Name | Last modified | Size | Description | |
---|---|---|---|---|
Parent Directory | - | |||
buildsrc-out.txt | 13-Apr-2023 00:05 | 856 | ||
buildsrc-summary.dcf | 13-Apr-2023 00:05 | 455 | ||
install-out.txt | 13-Apr-2023 00:05 | 1.0K | ||
install-summary.dcf | 13-Apr-2023 00:05 | 289 | ||
checksrc-out.txt | 13-Apr-2023 00:05 | 4.8K | ||
checksrc-summary.dcf | 13-Apr-2023 00:05 | 490 | ||
buildbin-out.txt | 13-Apr-2023 00:05 | 1.2K | ||
buildbin-summary.dcf | 13-Apr-2023 00:05 | 590 | ||