Name | Last modified | Size | Description | |
---|---|---|---|---|
Parent Directory | - | |||
buildbin-out.txt | 21-Mar-2023 00:05 | 3.5K | ||
buildbin-summary.dcf | 21-Mar-2023 00:05 | 548 | ||
buildsrc-out.txt | 13-Apr-2023 00:05 | 928 | ||
buildsrc-summary.dcf | 13-Apr-2023 00:05 | 348 | ||
checksrc-out.txt | 21-Mar-2023 00:05 | 4.8K | ||
checksrc-summary.dcf | 21-Mar-2023 00:05 | 462 | ||
install-out.txt | 13-Apr-2023 00:05 | 697 | ||
install-summary.dcf | 13-Apr-2023 00:05 | 277 | ||