Name | Last modified | Size | Description | |
---|---|---|---|---|
Parent Directory | - | |||
buildsrc-out.txt | 13-Apr-2023 00:04 | 794 | ||
buildsrc-summary.dcf | 13-Apr-2023 00:04 | 408 | ||
install-out.txt | 13-Apr-2023 00:04 | 1.0K | ||
install-summary.dcf | 13-Apr-2023 00:04 | 252 | ||
checksrc-out.txt | 13-Apr-2023 00:04 | 3.8K | ||
checksrc-summary.dcf | 13-Apr-2023 00:04 | 401 | ||