Index of /checkResults/3.15/workflows-LATEST/proteomics/raw-results/nebbiolo1
Name
Last modified
Size
Description
Parent Directory
-
buildsrc-out.txt
19-Oct-2022 03:00
928
buildsrc-summary.dcf
19-Oct-2022 03:00
338
install-out.txt
19-Oct-2022 03:00
674
install-summary.dcf
19-Oct-2022 03:00
267