Index of /checkResults/3.15/workflows-LATEST/maEndToEnd/raw-results
Name
Last modified
Size
Description
Parent Directory
-
nebbiolo1/
19-Oct-2022 03:00
-
merida1/
19-Oct-2022 03:00
-
info.dcf
19-Oct-2022 03:00
288