Index of /checkResults/3.15/workflows-LATEST/chipseqDB/raw-results/nebbiolo1
Name
Last modified
Size
Description
Parent Directory
-
buildsrc-out.txt
19-Oct-2022 03:00
888
buildsrc-summary.dcf
19-Oct-2022 03:00
421
install-out.txt
19-Oct-2022 03:00
943
install-summary.dcf
19-Oct-2022 03:00
262