Index of /checkResults/3.15/workflows-LATEST/arrays/raw-results/merida1
Name
Last modified
Size
Description
Parent Directory
-
buildsrc-out.txt
19-Oct-2022 03:00
812
buildsrc-summary.dcf
19-Oct-2022 03:00
423
install-out.txt
19-Oct-2022 03:00
964
install-summary.dcf
19-Oct-2022 03:00
266