Index of /checkResults/3.15/workflows-LATEST/SingscoreAMLMutations/raw-results/nebbiolo1
Name
Last modified
Size
Description
Parent Directory
-
buildsrc-out.txt
19-Oct-2022 03:00
2.7K
buildsrc-summary.dcf
19-Oct-2022 03:00
361
install-out.txt
19-Oct-2022 03:00
1.6K
install-summary.dcf
19-Oct-2022 03:00
287