Index of /checkResults/3.15/workflows-LATEST/EGSEA123/raw-results/nebbiolo1
Name
Last modified
Size
Description
Parent Directory
-
install-summary.dcf
19-Oct-2022 03:00
261
install-out.txt
19-Oct-2022 03:00
1.0K
buildsrc-summary.dcf
19-Oct-2022 03:00
421
buildsrc-out.txt
19-Oct-2022 03:00
844