Index of /checkResults/3.15/workflows-LATEST/BP4RNAseq/raw-results/nebbiolo1
Name
Last modified
Size
Description
Parent Directory
-
buildsrc-out.txt
19-Oct-2022 03:00
853
buildsrc-summary.dcf
19-Oct-2022 03:00
420
install-out.txt
19-Oct-2022 03:00
953
install-summary.dcf
19-Oct-2022 03:00
261