Index of /checkResults/3.15/workflows-LATEST/BP4RNAseq/raw-results/merida1
Name
Last modified
Size
Description
Parent Directory
-
install-summary.dcf
19-Oct-2022 03:00
271
install-out.txt
19-Oct-2022 03:00
1.0K
buildsrc-summary.dcf
19-Oct-2022 03:00
431
buildsrc-out.txt
19-Oct-2022 03:00
863