Name | Last modified | Size | Description | |
---|---|---|---|---|
Parent Directory | - | |||
checksrc-summary.dcf | 17-Feb-2022 22:36 | 471 | ||
checksrc-out.txt | 17-Feb-2022 22:36 | 4.5K | ||
buildsrc-summary.dcf | 17-Feb-2022 22:36 | 442 | ||
buildsrc-out.txt | 17-Feb-2022 22:36 | 900 | ||
install-summary.dcf | 17-Feb-2022 22:36 | 279 | ||
install-out.txt | 17-Feb-2022 22:36 | 934 | ||